BEGIN:VCALENDAR
VERSION:2.0
PRODID:-//AudioTheme 3.0.2
BEGIN:VEVENT
UID:urn:uuid:3f5f0ffb-6bc8-4d4d-b273-b1ee57a3f6a1
URL:https://janeljones.com/shows/2018-10-18/
DTSTART;TZID=GMT:20181018T233000
SUMMARY:Toronto Showcase
DESCRIPTION:with the Supersonic Hearts Band    http://bit.ly/FB_SupersonicHeartsBand
LOCATION:Alley Catz\, 2409 Yonge Street\, Toronto\, Ontario\, Canada\, M4P 2E7
END:VEVENT
END:VCALENDAR
