BEGIN:VCALENDAR
VERSION:2.0
PRODID:-//AudioTheme 3.0.2
BEGIN:VEVENT
UID:urn:uuid:8132ade5-d028-4f82-a8b7-aeb0ccb75d33
URL:https://janeljones.com/shows/2022-05-14/
DTSTART;TZID=GMT:20220514T230000
SUMMARY:Phil + Kal and Friends
LOCATION:Flash\, 463 Church St\, Toronto\, Ontario\, Canada\, M4Y 2C7
END:VEVENT
END:VCALENDAR
