BEGIN:VCALENDAR
VERSION:2.0
PRODID:-//AudioTheme 3.0.2
BEGIN:VEVENT
UID:urn:uuid:7b2da4a9-98e6-4b9c-a5b7-681bce0525d1
URL:https://janeljones.com/shows/2024-08-06/
DTSTART;TZID=GMT:20240806T210000
SUMMARY:Fundraiser for Palestinian Families
LOCATION:BSMT254\, 254 Lansdowne Ave\, Toronto\, ON\, M6H 3X9
END:VEVENT
END:VCALENDAR
