BEGIN:VCALENDAR
VERSION:2.0
PRODID:-//AudioTheme 3.0.2
BEGIN:VEVENT
UID:urn:uuid:6bfb2832-df40-494c-ac73-dcf58e523714
URL:https://janeljones.com/shows/a-very-merry-motown-christmas-2/
DTSTART;TZID=GMT:20191130T010000
SUMMARY:A Very Merry Motown Christmas
LOCATION:Regent Theatre\, 50 King St E\, Oshawa\, Ontario\, Canada\, L1H 1B3
END:VEVENT
END:VCALENDAR
