BEGIN:VCALENDAR
VERSION:2.0
PRODID:-//AudioTheme 3.0.2
BEGIN:VEVENT
UID:urn:uuid:6e845d7a-eab7-4216-8bcc-7ab94c906107
URL:https://janeljones.com/shows/aliya-ultan-budi-teething/
DTSTART;TZID=GMT:20250420T000000
SUMMARY:aliya ultan + budi + teething
LOCATION:Starving Artist\, 833 Runnymede Rd\, Toronto\, ON\, M6N 3V8
END:VEVENT
END:VCALENDAR
