BEGIN:VCALENDAR
VERSION:2.0
PRODID:-//AudioTheme 3.0.2
BEGIN:VEVENT
UID:urn:uuid:8d569ada-f4ee-4f48-85e9-2aabfdb7ad3d
URL:https://janeljones.com/shows/alpha-banquet/
DTSTART;TZID=GMT:20240609T210000
SUMMARY:WongAvery Asia Pacific Peace Museum Grand Opening Gala
LOCATION:Parkview Manor\, 55 Barber Green Road\, North York\, ON\, M3C 2A1
END:VEVENT
END:VCALENDAR
