BEGIN:VCALENDAR
VERSION:2.0
PRODID:-//AudioTheme 3.0.2
BEGIN:VEVENT
UID:urn:uuid:61d0748d-2b06-4de6-b2e1-51a15c435da8
URL:https://janeljones.com/shows/audiopollination-2/
DTSTART;TZID=GMT:20250412T000000
SUMMARY:Audiopollination
DESCRIPTION:Audiopollination is a monthly free improvisation series in association with Array Music featuring a smorgasbord of spontaneous/improvised/instantly composed music. Audiopollintion est une série d’événements mensuels d’improvisation libre\, produite en collaboration avec Array Music\, présentant un mélange de musiques spontanées\, improvisées\, instantanées ou composées en direct
LOCATION:Arraymusic\, 155 Walnut Ave 2nd Floor\, Toronto\, ON\, M6J 3W3
END:VEVENT
END:VCALENDAR
