BEGIN:VCALENDAR
VERSION:2.0
PRODID:-//AudioTheme 3.0.2
BEGIN:VEVENT
UID:urn:uuid:3ccfecc4-f449-4c2e-93d3-d7fb61f9dd30
URL:https://janeljones.com/shows/audiopollination/
DTSTART;TZID=GMT:20241012T000000
SUMMARY:Audiopollination
DESCRIPTION:Audiopollination is a monthly free improvisation series in association with Array Music featuring a smorgasbord of spontaneous/improvised/instantly composed music. Audiopollintion est une série d’événements mensuels d’improvisation libre\, produite en collaboration avec Array Music\, présentant un mélange de musiques spontanées\, improvisées\, instantanées ou composées en direct
LOCATION:Arraymusic\, 155 Walnut Ave 2nd Floor\, Toronto\, ON\, M6J 3W3
END:VEVENT
END:VCALENDAR
