BEGIN:VCALENDAR
VERSION:2.0
PRODID:-//AudioTheme 3.0.2
BEGIN:VEVENT
UID:urn:uuid:8d1f402e-6979-482e-a88a-c3939cea318e
URL:https://janeljones.com/shows/by-the-way-cafe/
DTSTART;TZID=GMT:20140824T000000
SUMMARY:Live @ By The Way Cafe
LOCATION:By The Way Cafe\, Toronto\, Ontario\, Canada
END:VEVENT
END:VCALENDAR
