BEGIN:VCALENDAR
VERSION:2.0
PRODID:-//AudioTheme 3.0.2
BEGIN:VEVENT
UID:urn:uuid:e69a0250-732e-4a08-a897-637b59c14ecb
URL:https://janeljones.com/shows/coexisdance-105/
DTSTART;TZID=GMT:20240623T000000
SUMMARY:Coexisdance #105
DESCRIPTION:Coexisdance is a curated evening of short (10-15 minute) improvised duets and small ensembles comprised of sound and movement artists.  ​We come together in the spirit of collaborative exploration\, investigation and adventure.
LOCATION:Canadian Contemporary Dance Theatre\, 509 Parliament St\, Toronto\, ON\, M4X 1P3
END:VEVENT
END:VCALENDAR
