BEGIN:VCALENDAR
VERSION:2.0
PRODID:-//AudioTheme 3.0.2
BEGIN:VEVENT
UID:urn:uuid:43dabb39-2fa7-4e49-be13-0bfa9e093532
URL:https://janeljones.com/shows/cpb-spring-banquet-2017/
DTSTART;TZID=GMT:20170226T230000
SUMMARY:CPB Spring Banquet 2017
DESCRIPTION:Celebrating Madam Hazel McCallion's 96's Birthday and performing for the Mississauga Board of Chinese Professionals and Businesses w/ Kalsen Cheung and Philippe Escayola
LOCATION:Blue Lagoon Seafood Master\, 888 Dundas St E C3&4\, Mississauga\, Ontario\, Canada\, L4Y 4G6
END:VEVENT
END:VCALENDAR
