BEGIN:VCALENDAR
VERSION:2.0
PRODID:-//AudioTheme 3.0.2
BEGIN:VEVENT
UID:urn:uuid:823f2714-0e80-4a62-a87b-eee3a81f4c81
URL:https://janeljones.com/shows/embrace-it-10th-anniversary/
DTSTART;TZID=GMT:20231104T210000
SUMMARY:EMBRACE IT - 10th Anniversary
LOCATION:The Annex Hotel\, 296 Brunswick Avenue\, Toronto\, Ontario\, Canada\, M5S 2M7
END:VEVENT
END:VCALENDAR
