BEGIN:VCALENDAR
VERSION:2.0
PRODID:-//AudioTheme 3.0.2
BEGIN:VEVENT
UID:urn:uuid:ffaf7ab9-bb03-4d80-bdfb-6e3572e34c03
URL:https://janeljones.com/shows/emma-hewson-aniqa-dear-roshanak/
DTSTART;TZID=GMT:20250323T230000
SUMMARY:Emma Hewson + aniqa dear + ROSHANAK
LOCATION:Burdock Music Hall\, 1184 Bloor St W\, Toronto\, ON\, M6H 1N2
END:VEVENT
END:VCALENDAR
