BEGIN:VCALENDAR
VERSION:2.0
PRODID:-//AudioTheme 3.0.2
BEGIN:VEVENT
UID:urn:uuid:5ed3a41d-a6d9-4a8d-bc57-c699d722f688
URL:https://janeljones.com/shows/empire-state-of-mind-networking-gala/
DTSTART;TZID=GMT:20211127T230000
SUMMARY:'Empire State Of Mind' Networking Gala
DESCRIPTION:Networking Event   w/ Live Music by Janel Jones
LOCATION:Private
END:VEVENT
END:VCALENDAR
