BEGIN:VCALENDAR
VERSION:2.0
PRODID:-//AudioTheme 3.0.2
BEGIN:VEVENT
UID:urn:uuid:7b4ba6a5-d0f0-4aa7-8dea-cb21de8a62b9
URL:https://janeljones.com/shows/ferenc-louis-botos-friends/
DTSTART;TZID=GMT:20230917T000000
SUMMARY:Ferenc Louis Botos & Friends
DESCRIPTION:Janel Jones - Vocals  Leon Racine - Piano  Peter Telford - Bass  Ferenc Louis Botos - Drums & Vocals
LOCATION:Chalkers Pub\, 247 Marlee Ave\, North York\, Ontario\, Canada\, M6B 1N3
END:VEVENT
END:VCALENDAR
