BEGIN:VCALENDAR
VERSION:2.0
PRODID:-//AudioTheme 3.0.2
BEGIN:VEVENT
UID:urn:uuid:3f399cad-517c-4c86-a374-c717eab4dec8
URL:https://janeljones.com/shows/ferenc-louis-botos-sr-band/
DTSTART;TZID=GMT:20190309T010000
SUMMARY:Ferenc Louis Botos Sr Band
DESCRIPTION:Janel Jones - Vocals  Fernando Tavares - Piano  Ken McDonald - Bass  Louis Botos Sr. - Drums
LOCATION:Chalkers Pub\, 247 Marlee Ave\, North York\, Ontario\, Canada\, M6B 1N3
END:VEVENT
END:VCALENDAR
