BEGIN:VCALENDAR
VERSION:2.0
PRODID:-//AudioTheme 3.0.2
BEGIN:VEVENT
UID:urn:uuid:25753998-9dca-4bed-84aa-f7b320a9249d
URL:https://janeljones.com/shows/final-recital/
DTSTART;TZID=GMT:20170413T233000
SUMMARY:Final Recital
DESCRIPTION:w/ Special guest: Alexis Baro
LOCATION:Tribute Communities Recital Hall\, North York\, Ontario\, Canada
END:VEVENT
END:VCALENDAR
