BEGIN:VCALENDAR
VERSION:2.0
PRODID:-//AudioTheme 3.0.2
BEGIN:VEVENT
UID:urn:uuid:936d73a6-9df3-444e-9ec3-171890b9c447
URL:https://janeljones.com/shows/gig-189/
DTSTART;TZID=GMT:20160801T003000
SUMMARY:Live @ 120 Diner
DESCRIPTION:Sitting in with Emma Cava
LOCATION:120 Diner\, 120 Church St\, Toronto\, Ontario\, Canada\, M5C 2G8
END:VEVENT
END:VCALENDAR
