BEGIN:VCALENDAR
VERSION:2.0
PRODID:-//AudioTheme 3.0.2
BEGIN:VEVENT
UID:urn:uuid:d8a1e84e-d0b6-40bf-9045-d4adba747287
URL:https://janeljones.com/shows/hunnywell-2/
DTSTART;TZID=GMT:20191227T230000
SUMMARY:Hunnywell
DESCRIPTION:Sitting in with La Nuit Shanghai's House Band: Hunnywell
LOCATION:La Nuit Shanghai 大上海\, 26 Alexander St\, Toronto\, Ontario\, Canada\, M4Y 1B4
END:VEVENT
END:VCALENDAR
