BEGIN:VCALENDAR
VERSION:2.0
PRODID:-//AudioTheme 3.0.2
BEGIN:VEVENT
UID:urn:uuid:707e8081-0501-4ab5-9fc0-cadbc9c0bbff
URL:https://janeljones.com/shows/janel-jones-trio/
DTSTART;TZID=GMT:20140907T210000
SUMMARY:Janel Jones Trio
LOCATION:Gate 403\, Toronto\, Ontario\, Canada
END:VEVENT
END:VCALENDAR
