BEGIN:VCALENDAR
VERSION:2.0
PRODID:-//AudioTheme 3.0.2
BEGIN:VEVENT
UID:urn:uuid:002be8e7-50bd-4e8e-8f2f-42068f79d5de
URL:https://janeljones.com/shows/kids-canada-valentines-day-dinner-party/
DTSTART;TZID=GMT:20190214T233000
SUMMARY:KIDS CANADA Valentine's Day Dinner Party
DESCRIPTION:KIDS CANADA is raising funds for Phase Two of our build for our centre in Uganda and we would love you\, our friends and families\, to help us. Please join us for our VALENTINE’s DAY DINNER PARTY on Thursday February 14th
LOCATION:Roncesvalles United Church\, 214 Wright Ave\, Toronto\, Ontario\, Canada\, M6R 1L3
END:VEVENT
END:VCALENDAR
