BEGIN:VCALENDAR
VERSION:2.0
PRODID:-//AudioTheme 3.0.2
BEGIN:VEVENT
UID:urn:uuid:92d2bbb4-9312-4bcb-9e5a-991673a342f2
URL:https://janeljones.com/shows/live-120-diner-2/
DTSTART;TZID=GMT:20160503T220000
SUMMARY:Live @ 120 Diner
DESCRIPTION:Performing with Miray
LOCATION:120 Diner\, 120 Church St\, Toronto\, Ontario\, Canada\, M5C 2G8
END:VEVENT
END:VCALENDAR
