BEGIN:VCALENDAR
VERSION:2.0
PRODID:-//AudioTheme 3.0.2
BEGIN:VEVENT
UID:urn:uuid:87b90744-6b02-4ba4-a681-d26e11bfd3b2
URL:https://janeljones.com/shows/live-120-diner-3/
DTSTART;TZID=GMT:20170622T213000
SUMMARY:Janel Jones Trio
LOCATION:120 Diner\, 120 Church St\, Toronto\, Ontario\, Canada\, M5C 2G8
END:VEVENT
END:VCALENDAR
