BEGIN:VCALENDAR
VERSION:2.0
PRODID:-//AudioTheme 3.0.2
BEGIN:VEVENT
UID:urn:uuid:6a9d675d-475e-4145-96b0-eab8f0071b79
URL:https://janeljones.com/shows/live-120-diner-4/
DTSTART;TZID=GMT:20170902T220000
SUMMARY:Live @ 120 Diner
DESCRIPTION:Sitting in with Bob Ben and Bobby Hsu
LOCATION:120 Diner\, 120 Church St\, Toronto\, Ontario\, Canada\, M5C 2G8
END:VEVENT
END:VCALENDAR
