BEGIN:VCALENDAR
VERSION:2.0
PRODID:-//AudioTheme 3.0.2
BEGIN:VEVENT
UID:urn:uuid:f32ede2e-27c1-484b-95f9-48cd556c083b
URL:https://janeljones.com/shows/live-boat/
DTSTART;TZID=GMT:20141110T010000
SUMMARY:The Boat Grand Opening
LOCATION:The Boat\, Toronto\, Ontario\, Canada
END:VEVENT
END:VCALENDAR
