BEGIN:VCALENDAR
VERSION:2.0
PRODID:-//AudioTheme 3.0.2
BEGIN:VEVENT
UID:urn:uuid:a9280b78-71a2-4151-bf5b-e80c03e84df7
URL:https://janeljones.com/shows/live-lamp-community-health-centre-2/
DTSTART;TZID=GMT:20150602T203000
SUMMARY:Etobicoke Jazz Band
LOCATION:LAMP Community Health Centre\, Etobicoke\, Ontario\, Canada
END:VEVENT
END:VCALENDAR
