BEGIN:VCALENDAR
VERSION:2.0
PRODID:-//AudioTheme 3.0.2
BEGIN:VEVENT
UID:urn:uuid:45bc3e64-6399-4385-a01e-0119d6b61dd9
URL:https://janeljones.com/shows/live-lamp/
DTSTART;TZID=GMT:20140603T210000
SUMMARY:Etobicoke Jazz Band
LOCATION:LAMP Community Health Centre\, Etobicoke\, Ontario\, Canada
END:VEVENT
END:VCALENDAR
