BEGIN:VCALENDAR
VERSION:2.0
PRODID:-//AudioTheme 3.0.2
BEGIN:VEVENT
UID:urn:uuid:7ee2407a-4de3-40ad-abe9-adeb29aaf245
URL:https://janeljones.com/shows/live-mel-lastman-square-2/
DTSTART;TZID=GMT:20170812T220000
SUMMARY:HAP Peace Fest
DESCRIPTION:PEACE FEST encapsulates our passion for social justice and hopes for a brighter future as we shed light on the dark chapters of the history of WWII in Asia. Our evening concert showcases musical and drama performances by youth and community members who share our vision of a just world and will end with a beautiful peace boat ceremony where attendees can make a wish for peace.
LOCATION:Mel Lastman Square\, 5100 Yonge Street\, North York\, Ontario\, Canada\, M2N 5V7
END:VEVENT
END:VCALENDAR
