BEGIN:VCALENDAR
VERSION:2.0
PRODID:-//AudioTheme 3.0.2
BEGIN:VEVENT
UID:urn:uuid:36f3ab35-0bb8-430d-963c-6c4d3f3c02f2
URL:https://janeljones.com/shows/live-mel-lastman-square/
DTSTART;TZID=GMT:20150822T000000
SUMMARY:Alpha Summer Festival
LOCATION:Mel Lastman Square\, 5100 Yonge Street\, North York\, Ontario\, Canada\, M2N 5V7
END:VEVENT
END:VCALENDAR
