BEGIN:VCALENDAR
VERSION:2.0
PRODID:-//AudioTheme 3.0.2
BEGIN:VEVENT
UID:urn:uuid:8d569ada-f4ee-4f48-85e9-2aabfdb7ad3d
URL:https://janeljones.com/shows/live-sheraton-hotel-richmond-hill/
DTSTART;TZID=GMT:20151109T003000
SUMMARY:Alpha Banquet
LOCATION:Sheraton Hotel Richmond Hill\, Richmond Hill\, Ontario\, Canada
END:VEVENT
END:VCALENDAR
