BEGIN:VCALENDAR
VERSION:2.0
PRODID:-//AudioTheme 3.0.2
BEGIN:VEVENT
UID:urn:uuid:38bb7809-3e9c-4644-b96a-cba2a50bd3d5
URL:https://janeljones.com/shows/live-the-tranzac-club/
DTSTART;TZID=GMT:20150218T030000
SUMMARY:Live @ The Tranzac Club
DESCRIPTION:w/ Ken McDonald Quartet
LOCATION:The Tranzac Club\, Toronto\, Ontario\, Canada
END:VEVENT
END:VCALENDAR
