BEGIN:VCALENDAR
VERSION:2.0
PRODID:-//AudioTheme 3.0.2
BEGIN:VEVENT
UID:urn:uuid:b26266d8-9c95-4f64-bd72-4c57300139be
URL:https://janeljones.com/shows/long-winter/
DTSTART;TZID=GMT:20250222T010000
SUMMARY:Long Winter
LOCATION:It's Ok* Studios\, 468 Queen St W\, Toronto\, ON\, M5V 2B2
END:VEVENT
END:VCALENDAR
