BEGIN:VCALENDAR
VERSION:2.0
PRODID:-//AudioTheme 3.0.2
BEGIN:VEVENT
UID:urn:uuid:e23c4ca8-b39b-4d25-9237-1c1b64d35321
URL:https://janeljones.com/shows/nuit-blanche-cosmic-homeostasis/
DTSTART;TZID=GMT:20241006T020000
SUMMARY:Nuit Blanche: Cosmic Homeostasis
DESCRIPTION:Cosmic Homeostasis is an artistic collective that gathers for the purpose of creating large-ensemble improvised drone-based music. Mixing performers with diverse musical backgrounds and experience levels\, performances create space to develop improvisatory skills through listening while constructing unique sonic environments.
LOCATION:Trinity-St. Paul's United Church and Centre for Faith\, Justice and the Arts\, 427 Bloor St W\, Toronto\, ON\, M5S 1X7
END:VEVENT
END:VCALENDAR
