BEGIN:VCALENDAR
VERSION:2.0
PRODID:-//AudioTheme 3.0.2
BEGIN:VEVENT
UID:urn:uuid:9ed0eee4-24c9-4f6d-baf4-151bd5ae2049
URL:https://janeljones.com/shows/of-dance-and-dreams/
DTSTART;TZID=GMT:20241220T003000
SUMMARY:Of Dance and Dreams
DESCRIPTION:DECEMBER 19 AT ARRAYMUSIC    DANCE BY @angelablumberg\, @eilishsc\, meghanmcmartin\, @taylorcollis    MUSIC BY @weareteething\, @duo_cichorium    VISUALS BY @thisisjeia
LOCATION:Arraymusic\, 155 Walnut Ave 2nd Floor\, Toronto\, ON\, M6J 3W3
END:VEVENT
END:VCALENDAR
