BEGIN:VCALENDAR
VERSION:2.0
PRODID:-//AudioTheme 3.0.2
BEGIN:VEVENT
UID:urn:uuid:55217073-28d4-46d8-8517-8b5a87fc8188
URL:https://janeljones.com/shows/parade-teething-yam-cable/
DTSTART;TZID=GMT:20241130T003000
SUMMARY:Parade + Teething + Yam & Cable
LOCATION:Annette Studios\, 566 Annette St\, Toronto\, ON\, M6S 2C2
END:VEVENT
END:VCALENDAR
