BEGIN:VCALENDAR
VERSION:2.0
PRODID:-//AudioTheme 3.0.2
BEGIN:VEVENT
UID:urn:uuid:e32f0975-d68f-414e-9de0-5cca8f51498a
URL:https://janeljones.com/shows/phil-kal-and-friends/
DTSTART;TZID=GMT:20220507T230000
SUMMARY:Phil + Kal and Friends
LOCATION:Flash\, 463 Church St\, Toronto\, Ontario\, Canada\, M4Y 2C7
END:VEVENT
END:VCALENDAR
