BEGIN:VCALENDAR
VERSION:2.0
PRODID:-//AudioTheme 3.0.2
BEGIN:VEVENT
UID:urn:uuid:778d4f24-3185-4447-93fb-2cd803533189
URL:https://janeljones.com/shows/private-event-2/
DTSTART;TZID=GMT:20211218T003000
SUMMARY:Private Event
LOCATION:Private
END:VEVENT
END:VCALENDAR
