BEGIN:VCALENDAR
VERSION:2.0
PRODID:-//AudioTheme 3.0.2
BEGIN:VEVENT
UID:urn:uuid:3a62ac3f-5947-4645-a5ed-166c5ed42e73
URL:https://janeljones.com/shows/private-event/
DTSTART;TZID=GMT:20211211T010000
SUMMARY:Private Event
LOCATION:Private
END:VEVENT
END:VCALENDAR
