BEGIN:VCALENDAR
VERSION:2.0
PRODID:-//AudioTheme 3.0.2
BEGIN:VEVENT
UID:urn:uuid:37e465b8-d32f-469c-bac4-4a8d3314d9e6
URL:https://janeljones.com/shows/toronto-showcase/
DTSTART;TZID=GMT:20180822T233000
SUMMARY:Toronto Showcase
DESCRIPTION:with the Supersonic Hearts Band    https://www.facebook.com/events/2113101372287756/
LOCATION:Alley Catz\, 2409 Yonge Street\, Toronto\, Ontario\, Canada\, M4P 2E7
END:VEVENT
END:VCALENDAR
